BEGIN:VCALENDAR
VERSION:2.0
PRODID:-//Parsons Bay Retreat - ECPv5.4.0//NONSGML v1.0//EN
CALSCALE:GREGORIAN
METHOD:PUBLISH
X-WR-CALNAME:Parsons Bay Retreat
X-ORIGINAL-URL:https://www.parsonsbayretreat.com.au
X-WR-CALDESC:Events for Parsons Bay Retreat
BEGIN:VTIMEZONE
TZID:Australia/Hobart
BEGIN:STANDARD
TZOFFSETFROM:+1100
TZOFFSETTO:+1000
TZNAME:AEST
DTSTART:20110402T160000
END:STANDARD
BEGIN:DAYLIGHT
TZOFFSETFROM:+1000
TZOFFSETTO:+1100
TZNAME:AEDT
DTSTART:20111001T160000
END:DAYLIGHT
END:VTIMEZONE
BEGIN:VEVENT
DTSTART;VALUE=DATE:20110625
DTEND;VALUE=DATE:20110626
DTSTAMP:20210228T181601
CREATED:20110504T143009Z
LAST-MODIFIED:20110623T145434Z
UID:49-1308960000-1309046340@www.parsonsbayretreat.com.au
SUMMARY:DrumBeat at The Shed
DESCRIPTION:Drumming on Saturday Nights with Stan Witek.\n6.00pm  – 7.00pm Tuition  \n7.00pm onwards Jam Session – other instruments welcome! \n‘Soup Kitchen’ with soup\, home baked bread and dessert. \n BYO or drinks available for purchase.
URL:https://www.parsonsbayretreat.com.au/event/test
LOCATION:Unnamed Venue\, 1583 Nubeena Road\, Nubeena\, 7184\, Australia
END:VEVENT
END:VCALENDAR