BEGIN:VCALENDAR
VERSION:2.0
PRODID:-//Parsons Bay Retreat - ECPv5.4.0//NONSGML v1.0//EN
CALSCALE:GREGORIAN
METHOD:PUBLISH
X-WR-CALNAME:Parsons Bay Retreat
X-ORIGINAL-URL:https://www.parsonsbayretreat.com.au
X-WR-CALDESC:Events for Parsons Bay Retreat
BEGIN:VTIMEZONE
TZID:Australia/Hobart
BEGIN:STANDARD
TZOFFSETFROM:+1100
TZOFFSETTO:+1000
TZNAME:AEST
DTSTART:20110402T160000
END:STANDARD
BEGIN:DAYLIGHT
TZOFFSETFROM:+1000
TZOFFSETTO:+1100
TZNAME:AEDT
DTSTART:20111001T160000
END:DAYLIGHT
END:VTIMEZONE
BEGIN:VEVENT
DTSTART;TZID=Australia/Hobart:20111122T093000
DTEND;TZID=Australia/Hobart:20111122T163000
DTSTAMP:20210228T180556
CREATED:20111009T185257Z
LAST-MODIFIED:20111009T185346Z
UID:163-1321954200-1321979400@www.parsonsbayretreat.com.au
SUMMARY:Cheesemaking Workshop
DESCRIPTION:BLUE CHEESE WORKSHOP\n \nLearn how to make cheese at home. It’s so easy!!!\nPresented by Charlene Angus from Cheeselinks \nParticipants will make their own blue cheese and sour cream. Demonstration of making of ricotta cheese. Includes notes\, recipes and materials. \nBOOKINGS ESSENTIAL – NUMBERS LIMITED \n  \n Discounts: \n\n$50 discount if attending more than 1 day\n$40 per person twin share accommodation at Parsons Bay Retreat
URL:https://www.parsonsbayretreat.com.au/event/cheesemaking-workshop-2
LOCATION:Unnamed Venue\, 1583 Nubeena Rd\, Nubeena\, TAS\, 7184\, Australia
CATEGORIES:Uncategorized
END:VEVENT
END:VCALENDAR