BEGIN:VCALENDAR
VERSION:2.0
PRODID:-//Parsons Bay Retreat - ECPv5.4.0//NONSGML v1.0//EN
CALSCALE:GREGORIAN
METHOD:PUBLISH
X-WR-CALNAME:Parsons Bay Retreat
X-ORIGINAL-URL:https://www.parsonsbayretreat.com.au
X-WR-CALDESC:Events for Parsons Bay Retreat
BEGIN:VTIMEZONE
TZID:Australia/Hobart
BEGIN:STANDARD
TZOFFSETFROM:+1100
TZOFFSETTO:+1000
TZNAME:AEST
DTSTART:20120331T160000
END:STANDARD
BEGIN:DAYLIGHT
TZOFFSETFROM:+1000
TZOFFSETTO:+1100
TZNAME:AEDT
DTSTART:20121006T160000
END:DAYLIGHT
END:VTIMEZONE
BEGIN:VEVENT
DTSTART;TZID=Australia/Hobart:20121006T100000
DTEND;TZID=Australia/Hobart:20121006T150000
DTSTAMP:20210228T175815
CREATED:20120906T163235Z
LAST-MODIFIED:20120906T163321Z
UID:210-1349517600-1349535600@www.parsonsbayretreat.com.au
SUMMARY:Transitions Tasmania Roadshow
DESCRIPTION:
URL:https://www.parsonsbayretreat.com.au/event/210
LOCATION:Unnamed Venue\, Opposite Nubeena IGA\, Nubeena\, Tasmania\, 7184\, Australia
CATEGORIES:Uncategorized
END:VEVENT
END:VCALENDAR